BEGIN:VCALENDAR
VERSION:2.0
PRODID:-//Maan training &amp; coaching - ECPv6.15.18//NONSGML v1.0//EN
CALSCALE:GREGORIAN
METHOD:PUBLISH
X-ORIGINAL-URL:https://maan.nu
X-WR-CALDESC:Evenementen voor Maan training &amp; coaching
REFRESH-INTERVAL;VALUE=DURATION:PT1H
X-Robots-Tag:noindex
X-PUBLISHED-TTL:PT1H
BEGIN:VTIMEZONE
TZID:Europe/Amsterdam
BEGIN:DAYLIGHT
TZOFFSETFROM:+0100
TZOFFSETTO:+0200
TZNAME:CEST
DTSTART:20160327T010000
END:DAYLIGHT
BEGIN:STANDARD
TZOFFSETFROM:+0200
TZOFFSETTO:+0100
TZNAME:CET
DTSTART:20161030T010000
END:STANDARD
BEGIN:DAYLIGHT
TZOFFSETFROM:+0100
TZOFFSETTO:+0200
TZNAME:CEST
DTSTART:20170326T010000
END:DAYLIGHT
BEGIN:STANDARD
TZOFFSETFROM:+0200
TZOFFSETTO:+0100
TZNAME:CET
DTSTART:20171029T010000
END:STANDARD
BEGIN:DAYLIGHT
TZOFFSETFROM:+0100
TZOFFSETTO:+0200
TZNAME:CEST
DTSTART:20180325T010000
END:DAYLIGHT
BEGIN:STANDARD
TZOFFSETFROM:+0200
TZOFFSETTO:+0100
TZNAME:CET
DTSTART:20181028T010000
END:STANDARD
BEGIN:DAYLIGHT
TZOFFSETFROM:+0100
TZOFFSETTO:+0200
TZNAME:CEST
DTSTART:20190331T010000
END:DAYLIGHT
BEGIN:STANDARD
TZOFFSETFROM:+0200
TZOFFSETTO:+0100
TZNAME:CET
DTSTART:20191027T010000
END:STANDARD
BEGIN:DAYLIGHT
TZOFFSETFROM:+0100
TZOFFSETTO:+0200
TZNAME:CEST
DTSTART:20200329T010000
END:DAYLIGHT
BEGIN:STANDARD
TZOFFSETFROM:+0200
TZOFFSETTO:+0100
TZNAME:CET
DTSTART:20201025T010000
END:STANDARD
BEGIN:DAYLIGHT
TZOFFSETFROM:+0100
TZOFFSETTO:+0200
TZNAME:CEST
DTSTART:20210328T010000
END:DAYLIGHT
BEGIN:STANDARD
TZOFFSETFROM:+0200
TZOFFSETTO:+0100
TZNAME:CET
DTSTART:20211031T010000
END:STANDARD
BEGIN:DAYLIGHT
TZOFFSETFROM:+0100
TZOFFSETTO:+0200
TZNAME:CEST
DTSTART:20220327T010000
END:DAYLIGHT
BEGIN:STANDARD
TZOFFSETFROM:+0200
TZOFFSETTO:+0100
TZNAME:CET
DTSTART:20221030T010000
END:STANDARD
BEGIN:DAYLIGHT
TZOFFSETFROM:+0100
TZOFFSETTO:+0200
TZNAME:CEST
DTSTART:20230326T010000
END:DAYLIGHT
BEGIN:STANDARD
TZOFFSETFROM:+0200
TZOFFSETTO:+0100
TZNAME:CET
DTSTART:20231029T010000
END:STANDARD
BEGIN:DAYLIGHT
TZOFFSETFROM:+0100
TZOFFSETTO:+0200
TZNAME:CEST
DTSTART:20240331T010000
END:DAYLIGHT
BEGIN:STANDARD
TZOFFSETFROM:+0200
TZOFFSETTO:+0100
TZNAME:CET
DTSTART:20241027T010000
END:STANDARD
BEGIN:DAYLIGHT
TZOFFSETFROM:+0100
TZOFFSETTO:+0200
TZNAME:CEST
DTSTART:20250330T010000
END:DAYLIGHT
BEGIN:STANDARD
TZOFFSETFROM:+0200
TZOFFSETTO:+0100
TZNAME:CET
DTSTART:20251026T010000
END:STANDARD
BEGIN:DAYLIGHT
TZOFFSETFROM:+0100
TZOFFSETTO:+0200
TZNAME:CEST
DTSTART:20260329T010000
END:DAYLIGHT
BEGIN:STANDARD
TZOFFSETFROM:+0200
TZOFFSETTO:+0100
TZNAME:CET
DTSTART:20261025T010000
END:STANDARD
END:VTIMEZONE
BEGIN:VEVENT
DTSTART;TZID=Europe/Amsterdam:20251003T080000
DTEND;TZID=Europe/Amsterdam:20251103T170000
DTSTAMP:20260420T072337
CREATED:20250110T155045Z
LAST-MODIFIED:20260312T141552Z
UID:1818-1759478400-1762189200@maan.nu
SUMMARY:Besturen\, jouw nieuw avontuur?!
DESCRIPTION:Word een effectieve en enthousiaste bestuurder – ontdek de wereld van besturen!\n\nDenk je erover om bestuurslid te worden of ben je net gestart? Deze training is speciaal voor jou. In vier inspirerende sessies leer je wat besturen inhoudt\, ontdek je je eigen kracht als bestuurder\, en krijg je de kans om met ervaren bestuursleden in gesprek te gaan.\n\n✔ Ontwikkel vaardigheden waar je direct mee aan de slag kunt\n✔ Breid je netwerk uit en ontmoet inspirerende mensen\n✔ Draag bij aan iets wat betekenisvol is\n\nWat kun je verwachten?\n\n 	Dag 1: Een frisse blik op besturen: Wat doet een bestuur\, wat drijft organisaties\, en wat kun jij bijdragen?\n 	Dag 2: Inspiratie uit de praktijk: Bestuursleden vertellen over hun ervaringen en nodigen je uit om mee te doen.\n 	Dag 3: Training op maat: Leer effectief communiceren\, samenwerken\, en beslissingen nemen. Alles wat je leert is direct toepasbaar in de praktijk\, zodat je een vliegende start kunt maken in jouw bestuur.\n 	Dag 4: Intervisie & reflectie: Presentaties\, casussen en een certificaat voor jouw deelname.\n\nSamen sterker:\nMeerdere bestuursleden van een organisatie kunnen deelnemen aan deze training. Zo zet je samen een stevig bestuur neer of verbeter je de bestaande werkwijze binnen jullie team.\n\nData en tijden:\nDe training vindt plaats op maandagavond 6\, 13\, 20 oktober en 3 november van 19.00 tot 22.00 uur.\n\nOf je nu nieuwsgierig bent naar wat besturen voor jou kan betekenen of al aan de slag wilt\, deze training biedt jou en je bestuursteam de tools en inzichten om succesvol en betrokken te zijn.\n\nBenieuwd? Meld je nu aan en zet de eerste stap naar betekenisvol besturen!\n\nJe kunt je belangstelling kenbaar maken via het contactformulier 
URL:https://maan.nu/agenda-item/besturen-een-nieuw-avontuur-voor-jou/
END:VEVENT
BEGIN:VEVENT
DTSTART;TZID=Europe/Amsterdam:20250402T093000
DTEND;TZID=Europe/Amsterdam:20250423T163000
DTSTAMP:20260420T072337
CREATED:20250219T120506Z
LAST-MODIFIED:20250617T184015Z
UID:2198-1743586200-1745425800@maan.nu
SUMMARY:Training timemanagement open inschrijving
DESCRIPTION:De regie nemen \n\n\n\n\nvoor projectleiders\, teamleiders\, beleidsmedewerkers\, consultants\, engineers\, docenten\n\n\n\nvoor iedereen die veel verschillende werkzaamheden moet combineren\n\n\n\nopen inschrijving\n\n\n\n\nWil je graag meer tijd overhouden voor de interessante projecten maar blijf je steken in je groeiende to-do-lijst en alle vergaderingen die je afhouden van doorpakken? Heb je behoefte aan meer overzicht over je werkzaamheden en wil je stress over deadlines vervangen door meer rust in je hoofd? Dan is het aanleren van een goede manier van je werk organiseren een oplossing. \n\n\n\nWellicht ben je iemand met meerdere interesses\, ben je betrokken bij veel onderwerpen of andere mensen in de organisatie en heb je een groot verantwoordelijkheidsgevoel? Misschien ben je (snel) doorgegroeid begonnen met een nieuwe rol en heb je nu eerst tijd en aandacht nodig om dit goed te organiseren. \n\n\n\nIn de training leer je hoe jij regie kunt nemen zodat je met aandacht je werk kunt doen. Je leert: \n\n\n\n\nHoe je overzicht organiseert en weer grip krijgt op je werkzaamheden\n\n\n\nEen jaar-\, week- en dagplanning hanteren die naadloos op elkaar aansluiten\n\n\n\nPrioriteiten aanbrengen en hieraan acties te verbinden\n\n\n\nEfficiënt afhandelen van e-mail zodat je meer kunt focussen op inhoudelijke taken\n\n\n\nDe kwaliteiten en valkuilen van jouw werkstijl en hoe je die kunt versterken\n\n\n\nExterne verstoringen snel herkennen en hoe je daar effectief mee om kunt gaan\n\n\n\nJouw interne ‘verstoring’\, zoals perfectionisme of uitstelgedrag\, aan te pakken\n\n\n\nVerwachtingen\, grenzen en prioriteiten helder te communiceren\n\n\n\nHandvatten voor het creëren van een goede werk-privébalans\n\n\n\n\nDoor de training leer je de regie weer terug te pakken in je werk\, en ook je energie! \n\n\n\nDe training bestaat uit twee maal een dag op locatie. In de tussentijd pas je het geleerde toe in je dagelijkse werk. We werken in een groep van max 8 personen. \n\n\n\nWil je: \n\n\n\n\nGrip op je werk en overzichtelijk kunnen plannen?\n\n\n\nResultaat zien en genoeg tijd overhouden voor andere (belangrijke) projecten?\n\n\n\nMeer rust\, werkplezier\, aandacht en focus?\n\n\n\nEen goede werk-privébalans?\n\n\n\n\nDeze training biedt je passende handvatten voor het organiseren van je werk. Schrijf je in of vraag eerst om een kennismakingsgesprek. Ik bespreek graag de mogelijkheden. \n\n\n\nPraktische informatie Open inschrijving voor de Training Timemanagement ‘De Regie nemen’. \n\n\n\nVoor: Projectleiders\, teamleiders\, beleidsmedewerkers\, consultants\, engineers\, docenten\, en iedereen die veel verschillende werkzaamheden moet combineren. Duur: 2 dagen live training op locatie\, op 11 en 25 november 2025 (9.30 – 16.30 uur). \n\n\n\nPak de regie terug in je werk\, en ook je energie!\n\n\n\nDeze training biedt je passende handvatten. Met inzicht in jouw manier van werken\, valkuilen en kwaliteiten en hoe daarvan gebruik te maken.
URL:https://maan.nu/agenda-item/2198/
END:VEVENT
BEGIN:VEVENT
DTSTART;TZID=Europe/Amsterdam:20250211T193000
DTEND;TZID=Europe/Amsterdam:20250211T213000
DTSTAMP:20260420T072337
CREATED:20250110T153225Z
LAST-MODIFIED:20260211T092103Z
UID:1816-1739302200-1739309400@maan.nu
SUMMARY:Thema opstellingenavond Ontspanning
DESCRIPTION:Kom dichter bij échte ontspanning – ontdek wat jou tegenhoudt en wat je nodig hebt\n\nDe winter nodigt ons uit om naar binnen te keren. Meer thuis zijn\, wat langer slapen of uitrusten. Maar hoe vind je rust als je hoofd altijd aanstaat? Als je stress ervaart door constante druk of een moeilijke situatie? Of als je dieper van binnen een spanning voelt die niet zomaar verdwijnt?\n\nOp dinsdag 11 februari gaan we tijdens een bijzondere avond met opstellingen op zoek naar jouw stressrespons én jouw verlangen naar ontspanning. Het is een kans om te onderzoeken wat je ruimte geeft:\n\nMeer rust in je persoonlijke leven of binnen je gezin.\nOntspanning in je lichaam\, zenuwstelsel en geest.\nEen gezonde balans in je relatie tot werk.\nHet loslaten van spanning die je niet meer nodig hebt.\nSamen kijken we naar wat er in de onderstroom speelt\, wat je tegenhoudt en wat je dichter bij ontspanning brengt. Een stap naar meer helderheid en vrijheid in je leven.\n\nPraktische informatie:\n\n 	Datum: Dinsdag 11 februari\n 	Tijd: 19.30 – 21.30 uur\n 	Begeleiding: Jenny Kieskamp\n 	Locatie: Agro Business Park 71\, Wageningen\n 	Bijdrage: € 35\,00\n 	Aanmelden: Via het contactformulier\n\nErvaringen van deelnemers: “Bij Jenny Kieskamp kon je in een kleine setting ontdekken hoe je staat tegenover ontspanning. Sta je er dichtbij\, of juist met je rug ernaartoe? Door Jenny’s begeleiding kom je snel tot de kern. Het is mooi om te ervaren hoe opstellingen inzicht geven in waar je nu staat en wat je nodig hebt. Ik heb al een heel stuk spanning los kunnen laten.”\n\nGun jezelf een moment om dieper te kijken en meer ruimte te maken voor ontspanning in je leven. Meld je aan en ervaar wat deze avond voor jou kan betekenen.
URL:https://maan.nu/agenda-item/thema-opstellingenavond-ontspanning/
LOCATION:Agro Business Park\, Agro Businesspark 71\, Wageningen\, Netherlands
END:VEVENT
BEGIN:VEVENT
DTSTART;TZID=Europe/Amsterdam:20230523T193000
DTEND;TZID=Europe/Amsterdam:20230523T213000
DTSTAMP:20260420T072337
CREATED:20260312T151058Z
LAST-MODIFIED:20260312T151058Z
UID:3042-1684870200-1684877400@maan.nu
SUMMARY:Thema avond Omgaan met de innerlijke criticus
DESCRIPTION:Regelmatig organiseer ik laagdrempelige thema-avonden waarbij we met een kleine groep mensen werken met opstellingen rondom een thema. Op dinsdag 23 mei a.s. is het thema ‘omgaan met de innerlijke criticus’.  \nDe innerlijke criticus is het deel van ons dat streng\, vermanend\, eisend of bestraffend kan zijn. Misschien ken je dit deel al een aantal jaren. Het is echter ook mogelijk dat het leven met de innerlijke criticus heel normaal voor je (geworden) is of dat deze innerlijke criticus meer ondergronds haar werk doet. Als gevolg van de innerlijke criticus voelen we ons vaak kleiner dan we zijn en verliezen we een stuk plezier. Ook belemmert het ons om spontaan in actie te komen. Op deze thema-avond onderzoek je via opstellingen de interactie tussen de criticus en andere delen in jou. Dit kan onderdrukken\, vechten\, klein houden of nog iets anders zijn. Door dit te aanschouwen ga je deze innerlijke strijd in het dagelijkse leven herkennen. Je bent sneller in staat om je in het moment zelf hiervan los te maken. Na het aankijken kan er een beweging ontstaan naar meer harmonie\, zelfliefde\, mildheid\, plezier en vrij zijn.\nDeze avond is voor iedereen die herkenning heeft op: te hoge eisen stellen\, jezelf bekritiseren\, perfectionisme\, jezelf klein houden en imposter syndroom.\nErvaring met opstellingen is niet nodig. Geef je nu op door een mail met je naam\, mailadres en telefoonnummer. \nThema: Omgaan met de innerlijke criticus.\nWanneer: dinsdag 23 mei 2023\nBegeleiding: Jenny Kieskamp\nTijd: 19.30 – 21.30\nAdres: Agro Business Park 71 \, Wageningen\nVergoeding € 30\,00.
URL:https://maan.nu/agenda-item/thema-avond-omgaan-met-de-innerlijke-criticus/
END:VEVENT
BEGIN:VEVENT
DTSTART;TZID=Europe/Amsterdam:20171121T093000
DTEND;TZID=Europe/Amsterdam:20171121T163000
DTSTAMP:20260420T072337
CREATED:20260312T150602Z
LAST-MODIFIED:20260312T150836Z
UID:3039-1511256600-1511281800@maan.nu
SUMMARY:Training timemanagement
DESCRIPTION:Prioriteiten stellen\, plannen en werkstijlen\nDatum: dinsdag 21 november 2017\nTijd: 9.30 tot 16.30 uur \nHeb je het gevoel te weinig tijd te hebben voor de zaken die je werkelijk belangrijk vindt? Ben je regelmatig de controle en het overzicht over je werkzaamheden kwijt? Met behulp van de training timemanagement krijg je weer grip op je activiteiten en je agenda\, je herkent de valkuilen en bent in staat om met concrete tips je werkwijze bij te stellen. \nIn de eendaagse training benaderen we ‘omgaan met de tijd die we hebben’ vanuit: prioriteiten stellen & plannen\, werkstijlen en het maken van een goed systeem. Hiermee ben je in staat om resultaat te behalen door met aandacht en plezier te focussen op wat er toe doet. \nMeer informatie / aanmelden »
URL:https://maan.nu/agenda-item/training-timemanagement/
END:VEVENT
BEGIN:VEVENT
DTSTART;TZID=Europe/Amsterdam:20171010T133000
DTEND;TZID=Europe/Amsterdam:20171010T170000
DTSTAMP:20260420T072337
CREATED:20260312T150217Z
LAST-MODIFIED:20260312T150327Z
UID:3032-1507642200-1507654800@maan.nu
SUMMARY:Workshop 'Gezond omgaan met stress'
DESCRIPTION:… meer regie over je vitaliteit\nIedereen beleeft dagelijks momenten van stress. Dit kan positief uitpakken en het beste in je naar boven halen. Wanneer je echter te veel en langdurig stress hebt\, kun je overspannen raken en zelfs op weg zijn naar een burn-out. \nJe ontdekt in deze workshop ‘omgaan met stress’ het verschil tussen gezonde en ongezonde stress.  Hoe het nu is met de balans tussen je draaglast en draagkracht en welke stappen je kunt zetten om gezonder om te gaan met stressbronnen op weg naar meer vitaliteit. Je krijgt korte achtergrondinformatie en oefent vooral veel zelf en met groepsgenoten. \ndinsdag 10 oktober 2017\, 13.30 – 16.30 uur\, Wageningen \nMeer informatie & aanmelden »
URL:https://maan.nu/agenda-item/workshop-gezond-omgaan-met-stress/
END:VEVENT
BEGIN:VEVENT
DTSTART;TZID=Europe/Amsterdam:20170629T145700
DTEND;TZID=Europe/Amsterdam:20170629T145700
DTSTAMP:20260420T072337
CREATED:20170620T131403Z
LAST-MODIFIED:20260312T150021Z
UID:3022-1498748220-1498748220@maan.nu
SUMMARY:Workshop 'Ontspanning en ik'
DESCRIPTION:Het VWI over de workshop: “Bij Jenny Kieskamp kon je in een kleine setting met opstellingen bekijken hoe je verhouding is tot ontspanning. Sta je er dichtbij\, of sta je er met je rug naartoe? Hoe wil je graag met ontspanning omgaan? Er kwamen veel vragen en met de begeleiding van Jenny kom je ook snel tot de kern. Goed om samen te doen\, je leert elkaar meteen beter kennen. Ook erg leuk om te ervaren hoe snel opstellingen je kunnen verduidelijken waar je staat en wat je nodig hebt.” \nAls je dit ook eens wilt ervaren is er op 8 juni nog kans om aan deze workshop mee te doen. \nOntspannen de zomervakantie in? \nWorkshop: ‘Ontspanning en ik’ Tijd: donderdag 29 juni van 19.30 tot 21.30 Locatie: Marijkeweg 22\, Wageningen Groepsgrootte: max 6 personen Vergoeding: € 25\,00 Aanmelden via: post@maan.nu met vermelding van voor en achternaam en telefoonnummer
URL:https://maan.nu/agenda-item/workshop-ontspanning-en-ik/
END:VEVENT
BEGIN:VEVENT
DTSTART;TZID=Europe/Amsterdam:20170211T193000
DTEND;TZID=Europe/Amsterdam:20170211T213000
DTSTAMP:20260420T072337
CREATED:20260312T150453Z
LAST-MODIFIED:20260312T150453Z
UID:3035-1486841400-1486848600@maan.nu
SUMMARY:Thema-avond Opstellingen over ‘ruimte innemen’
DESCRIPTION:Donderdag 2 november 2017 van 19.30 tot 21.30 uur in Wageningen\, begeleiding Jenny Kieskamp \nOp de thema avond ‘ruimte innemen’ ervaar je samen met anderen in opstellingen wat het onderwerp jou te vertellen heeft. Ruimte innemen betekent je plek innemen in je gezin\, vriendenkring of op het werk. Ruimte innemen is ook nodig als je invloed wilt uitoefenen. Misschien roept het begrip ‘ruimte innemen’ allerlei associaties en gemengde gevoelens bij je op. Dan is deze avond zeker iets voor jou. \nMeer informatie & aanmelden »
URL:https://maan.nu/agenda-item/thema-avond-opstellingen-over-ruimte-innemen/
END:VEVENT
END:VCALENDAR